BEGIN:VCALENDAR
VERSION:2.0
PRODID: -//CMS 5.0 //NONSGML //DE
BEGIN:VEVENT
SUMMARY:Gottesdienst mit Konfirmation
DESCRIPTION:\n\nhttps://magdeburg-sued.nak-nordost.de/db/595099
UID:595099@magdeburg-sued.nak-nordost.de
LOCATION:Marco Hauffe
CATEGORIES:Gottesdienst
X-ORGANIZER:
STATUS:CONFIRMED
CLASS:PUBLIC
DTSTART:20260503T080000Z
DTEND:20260503T080000Z
DTSTAMP:20260421T120621Z
CREATED:20260319T080243Z
LAST-MODIFIED:20260326T202452Z
BEGIN:VALARM
UID:8318F82A-3D7A-11F1-AD98-9DDE5A29324C
TRIGGER:-PT60M
ACTION:DISPLAY
DESCRIPTION:SUMMARY:Gottesdienst mit Konfirmation
END:VALARM
END:VEVENT
END:VCALENDAR
