BEGIN:VCALENDAR
VERSION:2.0
PRODID: -//CMS 5.0 //NONSGML //DE
BEGIN:VEVENT
SUMMARY:Gottesdienst
DESCRIPTION:\n\n\n\nhttps://magdeburg-sued.nak-nordost.de/db/597819
UID:597819@magdeburg-sued.nak-nordost.de
LOCATION:
CATEGORIES:Gottesdienst
X-ORGANIZER:
STATUS:CONFIRMED
CLASS:PUBLIC
DTSTART:20260517T080000Z
DTEND:20260517T091500Z
DTSTAMP:20260421T120621Z
CREATED:20260402T080245Z
LAST-MODIFIED:20260402T080245Z
BEGIN:VALARM
UID:831833AE-3D7A-11F1-91FD-ADD95A29324C
TRIGGER:-PT60M
ACTION:DISPLAY
DESCRIPTION:SUMMARY:Gottesdienst
END:VALARM
END:VEVENT
END:VCALENDAR
